BEGIN:VCALENDAR
VERSION:2.0
PRODID:-//Concertina - ECPv6.15.20//NONSGML v1.0//EN
CALSCALE:GREGORIAN
METHOD:PUBLISH
X-WR-CALNAME:Concertina
X-ORIGINAL-URL:https://concertina-rencontres.fr
X-WR-CALDESC:Évènements pour Concertina
REFRESH-INTERVAL;VALUE=DURATION:PT1H
X-Robots-Tag:noindex
X-PUBLISHED-TTL:PT1H
BEGIN:VTIMEZONE
TZID:Europe/Paris
BEGIN:DAYLIGHT
TZOFFSETFROM:+0100
TZOFFSETTO:+0200
TZNAME:CEST
DTSTART:20250330T010000
END:DAYLIGHT
BEGIN:STANDARD
TZOFFSETFROM:+0200
TZOFFSETTO:+0100
TZNAME:CET
DTSTART:20251026T010000
END:STANDARD
BEGIN:DAYLIGHT
TZOFFSETFROM:+0100
TZOFFSETTO:+0200
TZNAME:CEST
DTSTART:20260329T010000
END:DAYLIGHT
BEGIN:STANDARD
TZOFFSETFROM:+0200
TZOFFSETTO:+0100
TZNAME:CET
DTSTART:20261025T010000
END:STANDARD
BEGIN:DAYLIGHT
TZOFFSETFROM:+0100
TZOFFSETTO:+0200
TZNAME:CEST
DTSTART:20270328T010000
END:DAYLIGHT
BEGIN:STANDARD
TZOFFSETFROM:+0200
TZOFFSETTO:+0100
TZNAME:CET
DTSTART:20271031T010000
END:STANDARD
END:VTIMEZONE
BEGIN:VEVENT
DTSTART;TZID=Europe/Paris:20260625T133000
DTEND;TZID=Europe/Paris:20260626T121500
DTSTAMP:20260421T214713
CREATED:20260421T143105Z
LAST-MODIFIED:20260421T143105Z
UID:13970-1782394200-1782476100@concertina-rencontres.fr
SUMMARY:Journée interprofessionnelle art\, culture\, enfermements 2026
DESCRIPTION:jeudi 26 juin 2025 de 13h30 à 18h et vendredi 27 juin 2025 de 8h30 à 11h \nJournée interprofessionnelle art\, culture\, enfermements \nJustice – Santé – Social \nPrivation & création : entre représentations et expériences \ndu jeudi 25 juin 2026 13h30 au vendredi 26 juin 2026 12h15 \nMaison Fraternelle 4 La Croix du Lume 26220 Dieulefit \nAprès avoir abordé le rôle de l’artiste en 2024\, les droits culturels en 2025\, l’édition 2026 des JIP se propose d’explorer les liens entre création et privation. \nProgramme journée interprofessionnelle 2026 \nL’ensemble des deux demi-journées est piloté par Réjane Sourisseau\, formatrice\, accompagnatrice\, universitaire \nVous pouvez vous inscrire sur le formulaire ci-dessous et cliquez sur Envoyer \nInscription
URL:https://concertina-rencontres.fr/evenement/journee-interprofessionnelle-art-culture-enfermements-2026/
LOCATION:Maison fraternelle\, 4 chemin de la croix du Lume\, Deulefit\, Sélectionner un État :\, 26220\, France
CATEGORIES:Journée interprofessionnelle
ATTACH;FMTTYPE=image/jpeg:https://concertina-rencontres.fr/wp-content/uploads/2024/03/JIP_Visuel.jpeg
END:VEVENT
END:VCALENDAR