BEGIN:VCALENDAR
VERSION:2.0
PRODID:-//Concertina - ECPv6.15.20//NONSGML v1.0//EN
CALSCALE:GREGORIAN
METHOD:PUBLISH
X-ORIGINAL-URL:https://concertina-rencontres.fr
X-WR-CALDESC:Évènements pour Concertina
REFRESH-INTERVAL;VALUE=DURATION:PT1H
X-Robots-Tag:noindex
X-PUBLISHED-TTL:PT1H
BEGIN:VTIMEZONE
TZID:Europe/Paris
BEGIN:DAYLIGHT
TZOFFSETFROM:+0100
TZOFFSETTO:+0200
TZNAME:CEST
DTSTART:20230326T010000
END:DAYLIGHT
BEGIN:STANDARD
TZOFFSETFROM:+0200
TZOFFSETTO:+0100
TZNAME:CET
DTSTART:20231029T010000
END:STANDARD
BEGIN:DAYLIGHT
TZOFFSETFROM:+0100
TZOFFSETTO:+0200
TZNAME:CEST
DTSTART:20240331T010000
END:DAYLIGHT
BEGIN:STANDARD
TZOFFSETFROM:+0200
TZOFFSETTO:+0100
TZNAME:CET
DTSTART:20241027T010000
END:STANDARD
BEGIN:DAYLIGHT
TZOFFSETFROM:+0100
TZOFFSETTO:+0200
TZNAME:CEST
DTSTART:20250330T010000
END:DAYLIGHT
BEGIN:STANDARD
TZOFFSETFROM:+0200
TZOFFSETTO:+0100
TZNAME:CET
DTSTART:20251026T010000
END:STANDARD
END:VTIMEZONE
BEGIN:VEVENT
DTSTART;TZID=Europe/Paris:20240628T183000
DTEND;TZID=Europe/Paris:20240628T190000
DTSTAMP:20260423T184311
CREATED:20240508T080051Z
LAST-MODIFIED:20240512T075451Z
UID:10928-1719599400-1719601200@concertina-rencontres.fr
SUMMARY:Les trois coups
DESCRIPTION:Allocutions d’ouverture des Rencontres estivales autour des enfermements 2024 \n  \nLes trois coups \nvendredi 28 juin \n18h30 – 19h\n \nStéphane Mercurio présidente de l’édition \nNicolas Merle ministère de la Culture \nPaul Louchouarn DISP \nCelles de nos hôtes\, de nos soutiens et de l’équipe organisatrice \nParc de la Baume – Dieulefit
URL:https://concertina-rencontres.fr/evenement/les-trois-coups-2/
LOCATION:Parc de la Baume\, Dieulefit\, 26220\, France
CATEGORIES:Évènements 2024,Les trois coups
ATTACH;FMTTYPE=image/jpeg:https://concertina-rencontres.fr/wp-content/uploads/2023/06/Les-3-coups2-OK.jpg
ORGANIZER;CN="Concertina":MAILTO:contact@concertina-rencontres.fr
END:VEVENT
END:VCALENDAR